BEGIN:VCALENDAR
VERSION:2.0
PRODID:-//Peterloo in Rock - ECPv6.15.20//NONSGML v1.0//EN
CALSCALE:GREGORIAN
METHOD:PUBLISH
X-ORIGINAL-URL:https://peterloo-in-rock.com
X-WR-CALDESC:Events for Peterloo in Rock
REFRESH-INTERVAL;VALUE=DURATION:PT1H
X-Robots-Tag:noindex
X-PUBLISHED-TTL:PT1H
BEGIN:VTIMEZONE
TZID:Europe/London
BEGIN:DAYLIGHT
TZOFFSETFROM:+0000
TZOFFSETTO:+0100
TZNAME:BST
DTSTART:20240331T010000
END:DAYLIGHT
BEGIN:STANDARD
TZOFFSETFROM:+0100
TZOFFSETTO:+0000
TZNAME:GMT
DTSTART:20241027T010000
END:STANDARD
BEGIN:DAYLIGHT
TZOFFSETFROM:+0000
TZOFFSETTO:+0100
TZNAME:BST
DTSTART:20250330T010000
END:DAYLIGHT
BEGIN:STANDARD
TZOFFSETFROM:+0100
TZOFFSETTO:+0000
TZNAME:GMT
DTSTART:20251026T010000
END:STANDARD
BEGIN:DAYLIGHT
TZOFFSETFROM:+0000
TZOFFSETTO:+0100
TZNAME:BST
DTSTART:20260329T010000
END:DAYLIGHT
BEGIN:STANDARD
TZOFFSETFROM:+0100
TZOFFSETTO:+0000
TZNAME:GMT
DTSTART:20261025T010000
END:STANDARD
BEGIN:DAYLIGHT
TZOFFSETFROM:+0000
TZOFFSETTO:+0100
TZNAME:BST
DTSTART:20270328T010000
END:DAYLIGHT
BEGIN:STANDARD
TZOFFSETFROM:+0100
TZOFFSETTO:+0000
TZNAME:GMT
DTSTART:20271031T010000
END:STANDARD
END:VTIMEZONE
BEGIN:VEVENT
DTSTART;TZID=Europe/London:20250614T200000
DTEND;TZID=Europe/London:20250614T220000
DTSTAMP:20260421T051325
CREATED:20250611T140518Z
LAST-MODIFIED:20250611T140601Z
UID:52-1749931200-1749938400@peterloo-in-rock.com
SUMMARY:Charity event in aid of WSO
DESCRIPTION:
URL:https://peterloo-in-rock.com/event/charity-event-in-aid-of-wso/
LOCATION:Station Hotel\, 2 Warrington Street\, Ashton-Under-Lyne\, OL6 6XB\, United Kingdom
END:VEVENT
BEGIN:VEVENT
DTSTART;TZID=Europe/London:20250807T150000
DTEND;TZID=Europe/London:20250807T170000
DTSTAMP:20260421T051325
CREATED:20250618T090451Z
LAST-MODIFIED:20250618T090451Z
UID:87-1754578800-1754586000@peterloo-in-rock.com
SUMMARY:Cream of the Crop 2025
DESCRIPTION:
URL:https://peterloo-in-rock.com/event/cream-of-the-crop-2025/
LOCATION:Old Dairy Farm Cropredy\, School Lane\, Cropredy\, Oxfordshire\, OX17 1PX\, United Kingdom
END:VEVENT
BEGIN:VEVENT
DTSTART;TZID=Europe/London:20250816T150000
DTEND;TZID=Europe/London:20250816T180000
DTSTAMP:20260421T051325
CREATED:20250611T140948Z
LAST-MODIFIED:20250611T140948Z
UID:55-1755356400-1755367200@peterloo-in-rock.com
SUMMARY:53two
DESCRIPTION:Experience the powerful fusion of classic and indie rock with folk\, blues and progressive rock as The Reformers of Peterloo showcase Peterloo in Rock.   This electrifying show commemorates the anniversary of the Peterloo Massacre\, taking place in Manchester on 16th August. \nThe show begins in the immediate aftermath of the 1819 massacre\, guiding the audience through pivotal reforms of the nineteenth and twentieth centuries and culminating in the present day. The principal writer and composer\, Robert Carter explains that the early reformers were looking for many things that have now been changed\, such as: \n* Fairer distribution of parliamentary seats \n* A voice for the working people of the north \n* Universal suffrage including a vote for all \n* Abolition of the corn laws to allow affordable food \n* Greater equality \nDespite these historical efforts\, Carter poignantly highlights that the struggle for equality continues\, as those in power often prioritise their own interests over the welfare of ordinary people. The rich continue to get richer while the poor struggle to make ends meet. In effect\, at the root of everything\, nothings really changed. This enduring theme of ‘nothing’s changed’ resonates throughout the music\, offering a reflective and thought-provoking experience. \nIt promises to be emotional\, educational and extremely entertaining.  Don’t miss this unique opportunity to witness a musical journey that blends historical significance with contemporary relevance\, all set to an unforgettable soundtrack. \nMark your calendars for 16th August and join us in Manchester for an afternoon and/or night of music\, history\, and powerful storytelling. This is an event you won’t want to miss! \nTickets for the shows at 53two are available now at https://www.ticketsource.co.uk/whats-on/manchester/53two/peterloo/e-jqlmlx \nContact Robert Carter via robert@parkbridgemusic.com
URL:https://peterloo-in-rock.com/event/53two/
LOCATION:53two\, Arch 19 Watson St\, Manchester\, M3 4LP
END:VEVENT
BEGIN:VEVENT
DTSTART;TZID=Europe/London:20250816T200000
DTEND;TZID=Europe/London:20250816T220000
DTSTAMP:20260421T051325
CREATED:20250611T141051Z
LAST-MODIFIED:20250611T141051Z
UID:58-1755374400-1755381600@peterloo-in-rock.com
SUMMARY:53two
DESCRIPTION:Experience the powerful fusion of classic and indie rock with folk\, blues and progressive rock as The Reformers of Peterloo showcase Peterloo in Rock.   This electrifying show commemorates the anniversary of the Peterloo Massacre\, taking place in Manchester on 16th August. \nThe show begins in the immediate aftermath of the 1819 massacre\, guiding the audience through pivotal reforms of the nineteenth and twentieth centuries and culminating in the present day. The principal writer and composer\, Robert Carter explains that the early reformers were looking for many things that have now been changed\, such as: \n* Fairer distribution of parliamentary seats \n* A voice for the working people of the north \n* Universal suffrage including a vote for all \n* Abolition of the corn laws to allow affordable food \n* Greater equality \nDespite these historical efforts\, Carter poignantly highlights that the struggle for equality continues\, as those in power often prioritise their own interests over the welfare of ordinary people. The rich continue to get richer while the poor struggle to make ends meet. In effect\, at the root of everything\, nothings really changed. This enduring theme of ‘nothing’s changed’ resonates throughout the music\, offering a reflective and thought-provoking experience. \nIt promises to be emotional\, educational and extremely entertaining.  Don’t miss this unique opportunity to witness a musical journey that blends historical significance with contemporary relevance\, all set to an unforgettable soundtrack. \nMark your calendars for 16th August and join us in Manchester for an afternoon and/or night of music\, history\, and powerful storytelling. This is an event you won’t want to miss! \nTickets for the shows at 53two are available now at https://www.ticketsource.co.uk/whats-on/manchester/53two/peterloo/e-jqlmlx \nContact Robert Carter via robert@parkbridgemusic.com
URL:https://peterloo-in-rock.com/event/53two-2/
LOCATION:53two\, Arch 19 Watson St\, Manchester\, M3 4LP
END:VEVENT
BEGIN:VEVENT
DTSTART;TZID=Europe/London:20251024T200000
DTEND;TZID=Europe/London:20251024T223000
DTSTAMP:20260421T051325
CREATED:20250706T091044Z
LAST-MODIFIED:20250706T091044Z
UID:142-1761336000-1761345000@peterloo-in-rock.com
SUMMARY:Guide Bridge Theatre
DESCRIPTION:Come and witness the new rock musical that everyone is talking about – Peterloo in Rock
URL:https://peterloo-in-rock.com/event/guide-bridge-theatre/
END:VEVENT
BEGIN:VEVENT
DTSTART;TZID=Europe/London:20251115T200000
DTEND;TZID=Europe/London:20251115T223000
DTSTAMP:20260421T051325
CREATED:20250813T141236Z
LAST-MODIFIED:20250813T141236Z
UID:154-1763236800-1763245800@peterloo-in-rock.com
SUMMARY:Sunshine House\, Wigan\, WN1 3SA
DESCRIPTION:In partnership with Wigan Diggers\, The Reformers of Peterloo present Peterloo in Rock
URL:https://peterloo-in-rock.com/event/sunshine-house-wigan-wn1-3sa/
LOCATION:Sunshine House\, Wellington Street\, Wigan\, WN1 3SA\, United Kingdom
END:VEVENT
BEGIN:VEVENT
DTSTART;TZID=Europe/London:20260207T190000
DTEND;TZID=Europe/London:20260207T220000
DTSTAMP:20260421T051325
CREATED:20260204T140850Z
LAST-MODIFIED:20260204T140851Z
UID:227-1770490800-1770501600@peterloo-in-rock.com
SUMMARY:Guide Bridge Theatre\, Manchester\, M34 5HJ
DESCRIPTION:SOLD OUT Join the waiting list
URL:https://peterloo-in-rock.com/event/guide-bridge-theatre-manchester-m34-5hj/
LOCATION:Guide Bridge Theatre\, Audenshaw\, M34 5HJ
END:VEVENT
BEGIN:VEVENT
DTSTART;TZID=Europe/London:20260307T191500
DTEND;TZID=Europe/London:20260307T221500
DTSTAMP:20260421T051325
CREATED:20260204T135325Z
LAST-MODIFIED:20260204T135325Z
UID:217-1772910900-1772921700@peterloo-in-rock.com
SUMMARY:Partington Theatre\, Glossop\, SK13 8BW
DESCRIPTION:
URL:https://peterloo-in-rock.com/event/partington-theatre-glossop-sk13-8bw/
LOCATION:Partington Theatre\, Glossop\, SK13 8BW
END:VEVENT
BEGIN:VEVENT
DTSTART;TZID=Europe/London:20260418T180000
DTEND;TZID=Europe/London:20260418T220000
DTSTAMP:20260421T051325
CREATED:20260204T135823Z
LAST-MODIFIED:20260204T135823Z
UID:221-1776535200-1776549600@peterloo-in-rock.com
SUMMARY:Horse + Bamboo\, Waterfoot\, Rossendale\, BB4 7HB
DESCRIPTION:
URL:https://peterloo-in-rock.com/event/horse-bamboo-waterfoot-rossendale-bb4-7hb/
LOCATION:Horse + Bamboo\, Rossendale\, BB4 7HB
END:VEVENT
BEGIN:VEVENT
DTSTART;TZID=Europe/London:20260530T190000
DTEND;TZID=Europe/London:20260530T220000
DTSTAMP:20260421T051325
CREATED:20260204T142456Z
LAST-MODIFIED:20260204T142456Z
UID:239-1780167600-1780178400@peterloo-in-rock.com
SUMMARY:Peterloo in Rock (Acoustic) Bolton Socialist Club
DESCRIPTION:Tickets available from… \nJulia Simpkins – at Bolton Socialist Club. Tel: 07734 464236 \nPrice: £5.00
URL:https://peterloo-in-rock.com/event/peterloo-in-rock-acoustic-bolton-socialist-club/
LOCATION:Bolton Socialist Club\, BL1 1DY
END:VEVENT
BEGIN:VEVENT
DTSTART;TZID=Europe/London:20260627T190000
DTEND;TZID=Europe/London:20260627T220000
DTSTAMP:20260421T051325
CREATED:20260204T140407Z
LAST-MODIFIED:20260204T183127Z
UID:224-1782586800-1782597600@peterloo-in-rock.com
SUMMARY:Millgate Arts Centre\, Saddleworth\, OL3 5DY
DESCRIPTION:
URL:https://peterloo-in-rock.com/event/millgate-arts-centre-saddleworth-ol3-5dy/
LOCATION:Millgate Arts Centre\, Saddleworth\, OL3 5DY
END:VEVENT
BEGIN:VEVENT
DTSTART;TZID=Europe/London:20260725T150000
DTEND;TZID=Europe/London:20260725T180000
DTSTAMP:20260421T051325
CREATED:20260327T115124Z
LAST-MODIFIED:20260327T115124Z
UID:493-1784991600-1785002400@peterloo-in-rock.com
SUMMARY:The Mechanics Institute\, Manchester\, M1 6DD
DESCRIPTION:
URL:https://peterloo-in-rock.com/event/the-mechanics-institute-manchester-m1-6dd/
LOCATION:Mechanics Institute\, M1 6DD\, United Kingdom
END:VEVENT
BEGIN:VEVENT
DTSTART;TZID=Europe/London:20260812T000000
DTEND;TZID=Europe/London:20260815T235959
DTSTAMP:20260421T051325
CREATED:20260327T115858Z
LAST-MODIFIED:20260327T115858Z
UID:497-1786492800-1786838399@peterloo-in-rock.com
SUMMARY:Cream Of The Crop\, Cropredy\, OX17 1PX
DESCRIPTION:
URL:https://peterloo-in-rock.com/event/cream-of-the-crop-cropredy-ox17-1px/
LOCATION:Cream of the Crop\, The Old Dairy Farm\, School Lane\, Cropredy\, Banbury\, OX17 1PX\, United Kingdom
END:VEVENT
BEGIN:VEVENT
DTSTART;TZID=Europe/London:20260912T000000
DTEND;TZID=Europe/London:20260912T235959
DTSTAMP:20260421T051325
CREATED:20260327T120625Z
LAST-MODIFIED:20260327T120625Z
UID:501-1789171200-1789257599@peterloo-in-rock.com
SUMMARY:Wigan Diggers Festival
DESCRIPTION:
URL:https://peterloo-in-rock.com/event/wigan-diggers-festival/
LOCATION:Wiggan Diggers Festival\, Gerrard Winstanley Gardens\, The Wiend and Believe Square\, WN1 1PF\, United Kingdom
END:VEVENT
BEGIN:VEVENT
DTSTART;TZID=Europe/London:20261128T183000
DTEND;TZID=Europe/London:20261128T223000
DTSTAMP:20260421T051325
CREATED:20260416T041838Z
LAST-MODIFIED:20260416T041838Z
UID:509-1795890600-1795905000@peterloo-in-rock.com
SUMMARY:Lancastrian Suite\, Park Hall Hotel\, Charnock Richard\, Lancs\, PR7 5LP
DESCRIPTION:
URL:https://peterloo-in-rock.com/event/lancastrian-suite-park-hall-hotel-charnock-richard-lancs-pr7-5lp/
LOCATION:Park Hall Hotel\, Lancastrian Suite\, Charnock Richard\, PR7 5LP
END:VEVENT
END:VCALENDAR